BEGIN:VCALENDAR
VERSION:2.0
PRODID:icalendar-ruby
CALSCALE:GREGORIAN
METHOD:PUBLISH
BEGIN:VEVENT
DTSTAMP:20260425T183049Z
UID:68f7d399-f288-46ea-aac0-dfdc0351c947
DTSTART;VALUE=DATE:20241026
DTEND;VALUE=DATE:20241026
DESCRIPTION:Catamount BMX
LOCATION:Willow Park  472 East Rd Bennington VT 05201 USA
SUMMARY:Local Race Single
URL:/site/bmx_races/573802
END:VEVENT
END:VCALENDAR
