BEGIN:VCALENDAR
VERSION:2.0
PRODID:icalendar-ruby
CALSCALE:GREGORIAN
METHOD:PUBLISH
BEGIN:VEVENT
DTSTAMP:20260425T221704Z
UID:c796e4f4-6962-4ff8-93cf-25f40f49eed2
DTSTART;VALUE=DATE:20241029
DTEND;VALUE=DATE:20241029
DESCRIPTION:Southern Maryland BMX
LOCATION:26600 Budds Creek Rd  Mechanicsville MD 20659 USA
SUMMARY:Local Race Single
URL:/site/bmx_races/573800
END:VEVENT
END:VCALENDAR
