BEGIN:VCALENDAR
VERSION:2.0
PRODID:icalendar-ruby
CALSCALE:GREGORIAN
METHOD:PUBLISH
BEGIN:VEVENT
DTSTAMP:20260426T040002Z
UID:1cb94dad-d585-4b5a-96b8-f9fdd204b6d7
DTSTART;VALUE=DATE:20251016
DTEND;VALUE=DATE:20251016
DESCRIPTION:Rock City BMX
LOCATION:3300 10 Mile Road  Rockford MI 49341 USA
SUMMARY:Practice
URL:/site/bmx_races/573790
END:VEVENT
END:VCALENDAR
