BEGIN:VCALENDAR
VERSION:2.0
PRODID:icalendar-ruby
CALSCALE:GREGORIAN
METHOD:PUBLISH
BEGIN:VEVENT
DTSTAMP:20260424T220327Z
UID:2b9085de-0082-40ef-be41-cac226a605d5
DTSTART;VALUE=DATE:20250822
DTEND;VALUE=DATE:20250822
DESCRIPTION:Klamath Falls BMX
LOCATION:3868 Anderson Ave  Klamath Falls OR 97603 USA
SUMMARY:Local Race Single
URL:/site/bmx_races/573530
END:VEVENT
END:VCALENDAR
