BEGIN:VCALENDAR
VERSION:2.0
PRODID:icalendar-ruby
CALSCALE:GREGORIAN
METHOD:PUBLISH
BEGIN:VEVENT
DTSTAMP:20260424T234814Z
UID:d49545d5-28f4-43e0-b94c-38eeb93db400
DTSTART;VALUE=DATE:20250722
DTEND;VALUE=DATE:20250722
DESCRIPTION:Bakerview BMX
LOCATION:3101 E Fir Street  Mt. Vernon WA 98273 USA
SUMMARY:Practice
URL:/site/bmx_races/573398
END:VEVENT
END:VCALENDAR
