BEGIN:VCALENDAR
VERSION:2.0
PRODID:icalendar-ruby
CALSCALE:GREGORIAN
METHOD:PUBLISH
BEGIN:VEVENT
DTSTAMP:20260426T005813Z
UID:ac956d43-92dc-4eb1-9511-21d0ce1be900
DTSTART;VALUE=DATE:20251214
DTEND;VALUE=DATE:20251214
DESCRIPTION:Lexington BMX
LOCATION:1159 Nazareth Road  Lexington SC 29073 USA
SUMMARY:Local Race Single
URL:/site/bmx_races/573255
END:VEVENT
END:VCALENDAR
