BEGIN:VCALENDAR
VERSION:2.0
PRODID:icalendar-ruby
CALSCALE:GREGORIAN
METHOD:PUBLISH
BEGIN:VEVENT
DTSTAMP:20260426T035957Z
UID:f51c2fee-e397-4e5c-9947-7e6225f64d24
DTSTART;VALUE=DATE:20251018
DTEND;VALUE=DATE:20251018
DESCRIPTION:Lexington BMX
LOCATION:1159 Nazareth Road  Lexington SC 29073 USA
SUMMARY:Local Race Single
URL:/site/bmx_races/573229
END:VEVENT
END:VCALENDAR
