BEGIN:VCALENDAR
VERSION:2.0
PRODID:icalendar-ruby
CALSCALE:GREGORIAN
METHOD:PUBLISH
BEGIN:VEVENT
DTSTAMP:20260426T023301Z
UID:3ac7e0b4-836c-4b6a-94d7-c3f0291147a5
DTSTART;VALUE=DATE:20251002
DTEND;VALUE=DATE:20251002
DESCRIPTION:Lexington BMX
LOCATION:1159 Nazareth Road  Lexington SC 29073 USA
SUMMARY:Practice
URL:/site/bmx_races/573222
END:VEVENT
END:VCALENDAR
