BEGIN:VCALENDAR
VERSION:2.0
PRODID:icalendar-ruby
CALSCALE:GREGORIAN
METHOD:PUBLISH
BEGIN:VEVENT
DTSTAMP:20260424T234821Z
UID:e2ebf496-95b9-4cc0-9105-39aaf01abe7b
DTSTART;VALUE=DATE:20250201
DTEND;VALUE=DATE:20250201
DESCRIPTION:Miami South BMX
LOCATION:13050 Sw 216th Street  Miami FL 33170 USA
SUMMARY:Local Race Single
URL:/site/bmx_races/572712
END:VEVENT
END:VCALENDAR
