BEGIN:VCALENDAR
VERSION:2.0
PRODID:icalendar-ruby
CALSCALE:GREGORIAN
METHOD:PUBLISH
BEGIN:VEVENT
DTSTAMP:20260424T144654Z
UID:b7f05d4f-72bb-4b9b-8140-097eac9cdcda
DTSTART;VALUE=DATE:20250923
DTEND;VALUE=DATE:20250923
DESCRIPTION:Miami South BMX
LOCATION:13050 Sw 216th Street  Miami FL 33170 USA
SUMMARY:Practice
URL:/site/bmx_races/572628
END:VEVENT
END:VCALENDAR
