BEGIN:VCALENDAR
VERSION:2.0
PRODID:icalendar-ruby
CALSCALE:GREGORIAN
METHOD:PUBLISH
BEGIN:VEVENT
DTSTAMP:20260424T191647Z
UID:3925590a-8f6c-4e5f-9a96-c48dd340951c
DTSTART;VALUE=DATE:20250624
DTEND;VALUE=DATE:20250624
DESCRIPTION:Miami South BMX
LOCATION:13050 Sw 216th Street  Miami FL 33170 USA
SUMMARY:Practice
URL:/site/bmx_races/572615
END:VEVENT
END:VCALENDAR
