BEGIN:VCALENDAR
VERSION:2.0
PRODID:icalendar-ruby
CALSCALE:GREGORIAN
METHOD:PUBLISH
BEGIN:VEVENT
DTSTAMP:20260424T034911Z
UID:55d48e72-9270-4a4c-a6c3-d7582019ffc7
DTSTART;VALUE=DATE:20250918
DTEND;VALUE=DATE:20250918
DESCRIPTION:Miami South BMX
LOCATION:13050 Sw 216th Street  Miami FL 33170 USA
SUMMARY:Local Race Single
URL:/site/bmx_races/572579
END:VEVENT
END:VCALENDAR
