BEGIN:VCALENDAR
VERSION:2.0
PRODID:icalendar-ruby
CALSCALE:GREGORIAN
METHOD:PUBLISH
BEGIN:VEVENT
DTSTAMP:20260425T110913Z
UID:c7da84c6-6a4c-4bca-890a-f6a9b9475edb
DTSTART;VALUE=DATE:20241117
DTEND;VALUE=DATE:20241117
DESCRIPTION:Southwest Wyoming Indoor BMX
LOCATION:3320 Yellowstone Road  Rock Springs WY 82901 USA
SUMMARY:Local Race Single
URL:/site/bmx_races/572538
END:VEVENT
END:VCALENDAR
