BEGIN:VCALENDAR
VERSION:2.0
PRODID:icalendar-ruby
CALSCALE:GREGORIAN
METHOD:PUBLISH
BEGIN:VEVENT
DTSTAMP:20260425T110417Z
UID:c66cf123-340e-4b00-af9a-44ada09634e7
DTSTART;VALUE=DATE:20241116
DTEND;VALUE=DATE:20241116
DESCRIPTION:Southwest Wyoming Indoor BMX
LOCATION:3320 Yellowstone Road  Rock Springs WY 82901 USA
SUMMARY:Local Race Single
URL:/site/bmx_races/572537
END:VEVENT
END:VCALENDAR
