BEGIN:VCALENDAR
VERSION:2.0
PRODID:icalendar-ruby
CALSCALE:GREGORIAN
METHOD:PUBLISH
BEGIN:VEVENT
DTSTAMP:20260424T220353Z
UID:bee0fe60-a81f-4f1c-8870-09a646ca641b
DTSTART;VALUE=DATE:20250207
DTEND;VALUE=DATE:20250207
DESCRIPTION:Southwest Wyoming Indoor BMX
LOCATION:3320 Yellowstone Road  Rock Springs WY 82901 USA
SUMMARY:Local Race Single
URL:/site/bmx_races/572526
END:VEVENT
END:VCALENDAR
