BEGIN:VCALENDAR
VERSION:2.0
PRODID:icalendar-ruby
CALSCALE:GREGORIAN
METHOD:PUBLISH
BEGIN:VEVENT
DTSTAMP:20260424T221853Z
UID:221d247d-2bc6-4231-bd26-7226a3fd5f6e
DTSTART;VALUE=DATE:20251027
DTEND;VALUE=DATE:20251027
DESCRIPTION:Nellis BMX
LOCATION:4949 E Cheyenne Ave  Las Vegas NV 89115 USA
SUMMARY:Practice
URL:/site/bmx_races/572488
END:VEVENT
END:VCALENDAR
