BEGIN:VCALENDAR
VERSION:2.0
PRODID:icalendar-ruby
CALSCALE:GREGORIAN
METHOD:PUBLISH
BEGIN:VEVENT
DTSTAMP:20260424T201421Z
UID:cc1a49dd-612f-4425-b100-f181b3116023
DTSTART;VALUE=DATE:20251122
DTEND;VALUE=DATE:20251122
DESCRIPTION:Rum River BMX
LOCATION:Isanti Parkway Northwest  Isanti MN 55040 USA
SUMMARY:Local Race Single
URL:/site/bmx_races/572156
END:VEVENT
END:VCALENDAR
