BEGIN:VCALENDAR
VERSION:2.0
PRODID:icalendar-ruby
CALSCALE:GREGORIAN
METHOD:PUBLISH
BEGIN:VEVENT
DTSTAMP:20260425T204139Z
UID:4eb04cf4-4a94-4df0-9855-4d307aa44868
DTSTART;VALUE=DATE:20250527
DTEND;VALUE=DATE:20250527
DESCRIPTION:Rum River BMX
LOCATION:Isanti Parkway Northwest  Isanti MN 55040 USA
SUMMARY:Local Race Single
URL:/site/bmx_races/572114
END:VEVENT
END:VCALENDAR
