BEGIN:VCALENDAR
VERSION:2.0
PRODID:icalendar-ruby
CALSCALE:GREGORIAN
METHOD:PUBLISH
BEGIN:VEVENT
DTSTAMP:20260424T092604Z
UID:9236c0f6-4081-48db-9d2d-f8ddc98ba25d
DTSTART;VALUE=DATE:20250703
DTEND;VALUE=DATE:20250703
DESCRIPTION:Rum River BMX
LOCATION:Isanti Parkway Northwest  Isanti MN 55040 USA
SUMMARY:Local Race Single
URL:/site/bmx_races/572105
END:VEVENT
END:VCALENDAR
