BEGIN:VCALENDAR
VERSION:2.0
PRODID:icalendar-ruby
CALSCALE:GREGORIAN
METHOD:PUBLISH
BEGIN:VEVENT
DTSTAMP:20260425T234525Z
UID:d251acf8-6196-44c1-aa61-f2b93bfe22d9
DTSTART;VALUE=DATE:20250304
DTEND;VALUE=DATE:20250304
DESCRIPTION:Rum River BMX
LOCATION:Isanti Parkway Northwest  Isanti MN 55040 USA
SUMMARY:Practice
URL:/site/bmx_races/572062
END:VEVENT
END:VCALENDAR
