BEGIN:VCALENDAR
VERSION:2.0
PRODID:icalendar-ruby
CALSCALE:GREGORIAN
METHOD:PUBLISH
BEGIN:VEVENT
DTSTAMP:20260424T234857Z
UID:1b98bfe4-cf49-4274-8536-afeea89af385
DTSTART;VALUE=DATE:20250613
DTEND;VALUE=DATE:20250613
DESCRIPTION:River Valley BMX
LOCATION:7800 Riverside Rd E  Sumner WA 98360 USA
SUMMARY:Local Race Single
URL:/site/bmx_races/571857
END:VEVENT
END:VCALENDAR
