BEGIN:VCALENDAR
VERSION:2.0
PRODID:icalendar-ruby
CALSCALE:GREGORIAN
METHOD:PUBLISH
BEGIN:VEVENT
DTSTAMP:20260425T161118Z
UID:90e7bc26-3d43-4c7d-a417-4c53c1a3f4ba
DTSTART;VALUE=DATE:20250926
DTEND;VALUE=DATE:20250926
DESCRIPTION:Tri-City BMX
LOCATION:520 Burdeck St  Schenectady NY 12306 USA
SUMMARY:Local Race Single
URL:/site/bmx_races/571660
END:VEVENT
END:VCALENDAR
