BEGIN:VCALENDAR
VERSION:2.0
PRODID:icalendar-ruby
CALSCALE:GREGORIAN
METHOD:PUBLISH
BEGIN:VEVENT
DTSTAMP:20260424T234125Z
UID:ce7f68a5-8e48-4539-8eba-fed400e85d62
DTSTART;VALUE=DATE:20250919
DTEND;VALUE=DATE:20250919
DESCRIPTION:Tri-City BMX
LOCATION:520 Burdeck St  Schenectady NY 12306 USA
SUMMARY:Local Race Single
URL:/site/bmx_races/571659
END:VEVENT
END:VCALENDAR
