BEGIN:VCALENDAR
VERSION:2.0
PRODID:icalendar-ruby
CALSCALE:GREGORIAN
METHOD:PUBLISH
BEGIN:VEVENT
DTSTAMP:20260424T215502Z
UID:8fc5298e-05d4-44c2-bae4-b2c1bd300d05
DTSTART;VALUE=DATE:20250812
DTEND;VALUE=DATE:20250812
DESCRIPTION:Tri-City BMX
LOCATION:520 Burdeck St  Schenectady NY 12306 USA
SUMMARY:Local Race Single
URL:/site/bmx_races/571651
END:VEVENT
END:VCALENDAR
