BEGIN:VCALENDAR
VERSION:2.0
PRODID:icalendar-ruby
CALSCALE:GREGORIAN
METHOD:PUBLISH
BEGIN:VEVENT
DTSTAMP:20260425T221709Z
UID:5c6b0730-0ef8-460a-b6f9-c8c1d65892d3
DTSTART;VALUE=DATE:20250513
DTEND;VALUE=DATE:20250513
DESCRIPTION:Tri-City BMX
LOCATION:520 Burdeck St  Schenectady NY 12306 USA
SUMMARY:Practice
URL:/site/bmx_races/571617
END:VEVENT
END:VCALENDAR
