BEGIN:VCALENDAR
VERSION:2.0
PRODID:icalendar-ruby
CALSCALE:GREGORIAN
METHOD:PUBLISH
BEGIN:VEVENT
DTSTAMP:20260425T161143Z
UID:aa7e9242-8070-4c71-a78b-e741a0309475
DTSTART;VALUE=DATE:20251030
DTEND;VALUE=DATE:20251030
DESCRIPTION:Cedar BMX
LOCATION:Red Barn Village Rd  Clarks Summit PA 18644 USA
SUMMARY:Local Race Single
URL:/site/bmx_races/571607
END:VEVENT
END:VCALENDAR
