BEGIN:VCALENDAR
VERSION:2.0
PRODID:icalendar-ruby
CALSCALE:GREGORIAN
METHOD:PUBLISH
BEGIN:VEVENT
DTSTAMP:20260424T215452Z
UID:a5e90ca1-2d82-4c09-b058-c50224190561
DTSTART;VALUE=DATE:20250911
DTEND;VALUE=DATE:20250911
DESCRIPTION:Cedar BMX
LOCATION:Red Barn Village Rd  Clarks Summit PA 18644 USA
SUMMARY:Local Race Single
URL:/site/bmx_races/571600
END:VEVENT
END:VCALENDAR
