BEGIN:VCALENDAR
VERSION:2.0
PRODID:icalendar-ruby
CALSCALE:GREGORIAN
METHOD:PUBLISH
BEGIN:VEVENT
DTSTAMP:20260425T154503Z
UID:dc1a8d11-ae0e-48ff-82a8-5e75af35663f
DTSTART;VALUE=DATE:20241014
DTEND;VALUE=DATE:20241014
DESCRIPTION:Columbia Basin BMX
LOCATION:2002 Snyder St  Richland WA 99354 USA
SUMMARY:Track Rental
URL:/site/bmx_races/571530
END:VEVENT
END:VCALENDAR
