BEGIN:VCALENDAR
VERSION:2.0
PRODID:icalendar-ruby
CALSCALE:GREGORIAN
METHOD:PUBLISH
BEGIN:VEVENT
DTSTAMP:20260425T171928Z
UID:aaa2219f-ae66-49da-91f2-a8d4d602f1e0
DTSTART;VALUE=DATE:20250729
DTEND;VALUE=DATE:20250729
DESCRIPTION:Cape Cod BMX
LOCATION:65 Quaker Meetinghouse Rd   Sandwich MA 02563 USA
SUMMARY:Local Race Single
URL:/site/bmx_races/571459
END:VEVENT
END:VCALENDAR
