BEGIN:VCALENDAR
VERSION:2.0
PRODID:icalendar-ruby
CALSCALE:GREGORIAN
METHOD:PUBLISH
BEGIN:VEVENT
DTSTAMP:20260425T152804Z
UID:f43f8928-a195-43b6-af95-7c6ee74e6061
DTSTART;VALUE=DATE:20240922
DTEND;VALUE=DATE:20240922
DESCRIPTION:Fernley BMX
LOCATION:212 Mull Ln  Fernley NV 89408 USA
SUMMARY:Local Race Single
URL:/site/bmx_races/571369
END:VEVENT
END:VCALENDAR
