BEGIN:VCALENDAR
VERSION:2.0
PRODID:icalendar-ruby
CALSCALE:GREGORIAN
METHOD:PUBLISH
BEGIN:VEVENT
DTSTAMP:20260425T155431Z
UID:5eda1c15-ff31-4320-b6d7-fe01bc7b2fef
DTSTART;VALUE=DATE:20251115
DTEND;VALUE=DATE:20251115
DESCRIPTION:Steel Wheels Indoor BMX
LOCATION:709 N Hobart Rd  Hobart IN 46350 USA
SUMMARY:Local Race Single
URL:/site/bmx_races/571299
END:VEVENT
END:VCALENDAR
