BEGIN:VCALENDAR
VERSION:2.0
PRODID:icalendar-ruby
CALSCALE:GREGORIAN
METHOD:PUBLISH
BEGIN:VEVENT
DTSTAMP:20260425T131322Z
UID:d277d0ce-c1bb-4bad-a481-1c2f45b72d7c
DTSTART;VALUE=DATE:20251113
DTEND;VALUE=DATE:20251113
DESCRIPTION:Steel Wheels Indoor BMX
LOCATION:709 N Hobart Rd  Hobart IN 46350 USA
SUMMARY:Local Race Single
URL:/site/bmx_races/571297
END:VEVENT
END:VCALENDAR
