BEGIN:VCALENDAR
VERSION:2.0
PRODID:icalendar-ruby
CALSCALE:GREGORIAN
METHOD:PUBLISH
BEGIN:VEVENT
DTSTAMP:20260424T233838Z
UID:5659304c-1b41-45e3-a889-42ef987d8457
DTSTART;VALUE=DATE:20250518
DTEND;VALUE=DATE:20250518
DESCRIPTION:Akron BMX
LOCATION:800 Derby Downs Drive  Akron OH 44306 USA
SUMMARY:Local Race Single
URL:/site/bmx_races/571013
END:VEVENT
END:VCALENDAR
