BEGIN:VCALENDAR
VERSION:2.0
PRODID:icalendar-ruby
CALSCALE:GREGORIAN
METHOD:PUBLISH
BEGIN:VEVENT
DTSTAMP:20260424T185808Z
UID:0d6ec01b-1b19-49db-8f6f-603316d97f11
DTSTART;VALUE=DATE:20250828
DTEND;VALUE=DATE:20250828
DESCRIPTION:Greater Victoria BMX
LOCATION:1767 Island Hwy  Victoria BC V9B 1J1 CAN
SUMMARY:Practice
URL:/site/bmx_races/570874
END:VEVENT
END:VCALENDAR
