BEGIN:VCALENDAR
VERSION:2.0
PRODID:icalendar-ruby
CALSCALE:GREGORIAN
METHOD:PUBLISH
BEGIN:VEVENT
DTSTAMP:20260424T202331Z
UID:7d687114-2030-4c61-8b26-8dc58e2d1ea7
DTSTART;VALUE=DATE:20250826
DTEND;VALUE=DATE:20250826
DESCRIPTION:Greater Victoria BMX
LOCATION:1767 Island Hwy  Victoria BC V9B 1J1 CAN
SUMMARY:Local Race Single
URL:/site/bmx_races/570873
END:VEVENT
END:VCALENDAR
