BEGIN:VCALENDAR
VERSION:2.0
PRODID:icalendar-ruby
CALSCALE:GREGORIAN
METHOD:PUBLISH
BEGIN:VEVENT
DTSTAMP:20260424T234808Z
UID:1fb98334-3624-4573-8b51-f2948ab70e16
DTSTART;VALUE=DATE:20250424
DTEND;VALUE=DATE:20250424
DESCRIPTION:Greater Victoria BMX
LOCATION:1767 Island Hwy  Victoria BC V9B 1J1 CAN
SUMMARY:Practice
URL:/site/bmx_races/570829
END:VEVENT
END:VCALENDAR
