BEGIN:VCALENDAR
VERSION:2.0
PRODID:icalendar-ruby
CALSCALE:GREGORIAN
METHOD:PUBLISH
BEGIN:VEVENT
DTSTAMP:20260425T134717Z
UID:f760bb92-8d06-4bc5-bb9a-687b84328236
DTSTART;VALUE=DATE:20250202
DTEND;VALUE=DATE:20250202
DESCRIPTION:Mississippi Valley BMX Raceway
LOCATION:2815 West Locust Street  Davenport IA 52804 USA
SUMMARY:Local Race Single
URL:/site/bmx_races/570817
END:VEVENT
END:VCALENDAR
