BEGIN:VCALENDAR
VERSION:2.0
PRODID:icalendar-ruby
CALSCALE:GREGORIAN
METHOD:PUBLISH
BEGIN:VEVENT
DTSTAMP:20260425T112007Z
UID:27fb8aab-2ab0-4012-89af-10a9a51a00f5
DTSTART;VALUE=DATE:20241002
DTEND;VALUE=DATE:20241002
DESCRIPTION:Akron BMX
LOCATION:800 Derby Downs Drive  Akron OH 44306 USA
SUMMARY:Practice
URL:/site/bmx_races/570788
END:VEVENT
END:VCALENDAR
