BEGIN:VCALENDAR
VERSION:2.0
PRODID:icalendar-ruby
CALSCALE:GREGORIAN
METHOD:PUBLISH
BEGIN:VEVENT
DTSTAMP:20260424T065435Z
UID:6ab62075-e846-4478-aa70-8aaa3ce55df8
DTSTART;VALUE=DATE:20250711
DTEND;VALUE=DATE:20250711
DESCRIPTION:Jacksonville BMX
LOCATION:1946 Ray Greene Drive  Jacksonville FL 32218 USA
SUMMARY:Local Race Single
URL:/site/bmx_races/570657
END:VEVENT
END:VCALENDAR
