BEGIN:VCALENDAR
VERSION:2.0
PRODID:icalendar-ruby
CALSCALE:GREGORIAN
METHOD:PUBLISH
BEGIN:VEVENT
DTSTAMP:20260424T233629Z
UID:8d6f356b-7a6a-461f-a380-668031f22778
DTSTART;VALUE=DATE:20250429
DTEND;VALUE=DATE:20250429
DESCRIPTION:Jacksonville BMX
LOCATION:1946 Ray Greene Drive  Jacksonville FL 32218 USA
SUMMARY:Local Race Single
URL:/site/bmx_races/570637
END:VEVENT
END:VCALENDAR
