BEGIN:VCALENDAR
VERSION:2.0
PRODID:icalendar-ruby
CALSCALE:GREGORIAN
METHOD:PUBLISH
BEGIN:VEVENT
DTSTAMP:20260425T030637Z
UID:a599fa0b-92fe-4df6-af22-8ef04a093c75
DTSTART;VALUE=DATE:20250204
DTEND;VALUE=DATE:20250204
DESCRIPTION:Jacksonville BMX
LOCATION:1946 Ray Greene Drive  Jacksonville FL 32218 USA
SUMMARY:Local Race Single
URL:/site/bmx_races/570613
END:VEVENT
END:VCALENDAR
