BEGIN:VCALENDAR
VERSION:2.0
PRODID:icalendar-ruby
CALSCALE:GREGORIAN
METHOD:PUBLISH
BEGIN:VEVENT
DTSTAMP:20260424T165943Z
UID:9f98eb7c-2edb-41fe-98b4-095a7103bff1
DTSTART;VALUE=DATE:20251225
DTEND;VALUE=DATE:20251225
DESCRIPTION:High Springs BMX
LOCATION:  High Springs FL 32028 USA
SUMMARY:Practice
URL:/site/bmx_races/570392
END:VEVENT
END:VCALENDAR
