BEGIN:VCALENDAR
VERSION:2.0
PRODID:icalendar-ruby
CALSCALE:GREGORIAN
METHOD:PUBLISH
BEGIN:VEVENT
DTSTAMP:20260424T220428Z
UID:4f709d02-23ab-4b8e-8f98-8440d73fc23f
DTSTART;VALUE=DATE:20251118
DTEND;VALUE=DATE:20251118
DESCRIPTION:High Springs BMX
LOCATION:  High Springs FL 32028 USA
SUMMARY:Practice
URL:/site/bmx_races/570377
END:VEVENT
END:VCALENDAR
