BEGIN:VCALENDAR
VERSION:2.0
PRODID:icalendar-ruby
CALSCALE:GREGORIAN
METHOD:PUBLISH
BEGIN:VEVENT
DTSTAMP:20260425T015338Z
UID:c3bba2d0-343f-4ed0-b573-1a38af05499e
DTSTART;VALUE=DATE:20130914
DTEND;VALUE=DATE:20130914
DESCRIPTION:Brighton BMX
LOCATION:414 N Maple St  Brighton IL 62012 USA
SUMMARY:Local Race Single
URL:/site/bmx_races/57035
END:VEVENT
END:VCALENDAR
