BEGIN:VCALENDAR
VERSION:2.0
PRODID:icalendar-ruby
CALSCALE:GREGORIAN
METHOD:PUBLISH
BEGIN:VEVENT
DTSTAMP:20260425T030758Z
UID:8801e6df-c89f-4270-bf3a-d69c8a2c72d0
DTSTART;VALUE=DATE:20250612
DTEND;VALUE=DATE:20250612
DESCRIPTION:High Springs BMX
LOCATION:  High Springs FL 32028 USA
SUMMARY:Practice
URL:/site/bmx_races/570305
END:VEVENT
END:VCALENDAR
