BEGIN:VCALENDAR
VERSION:2.0
PRODID:icalendar-ruby
CALSCALE:GREGORIAN
METHOD:PUBLISH
BEGIN:VEVENT
DTSTAMP:20260424T233639Z
UID:ca2d2b4d-2724-4c2a-9024-80dbfb1892c5
DTSTART;VALUE=DATE:20130622
DTEND;VALUE=DATE:20130622
DESCRIPTION:Sandy Ridge BMX
LOCATION:1200 Keys Ferry Rd  McDonough GA 30253 USA
SUMMARY:Warnicke Single
URL:/site/bmx_races/56996
END:VEVENT
END:VCALENDAR
