BEGIN:VCALENDAR
VERSION:2.0
PRODID:icalendar-ruby
CALSCALE:GREGORIAN
METHOD:PUBLISH
BEGIN:VEVENT
DTSTAMP:20260424T221759Z
UID:50ec6e1e-ef1d-4ac3-ae4f-f3a72ba725e8
DTSTART;VALUE=DATE:20250610
DTEND;VALUE=DATE:20250610
DESCRIPTION:Buffalo Creek BMX
LOCATION:1017 9th Street  Glencoe MN 55336 USA
SUMMARY:Local Race Single
URL:/site/bmx_races/569946
END:VEVENT
END:VCALENDAR
