BEGIN:VCALENDAR
VERSION:2.0
PRODID:icalendar-ruby
CALSCALE:GREGORIAN
METHOD:PUBLISH
BEGIN:VEVENT
DTSTAMP:20260425T122845Z
UID:298db4ed-e8b1-423e-8f09-2fc0df57b318
DTSTART;VALUE=DATE:20241003
DTEND;VALUE=DATE:20241003
DESCRIPTION:Marquette BMX
LOCATION:910 Hawley Street  Marquette MI 49855 USA
SUMMARY:Local Race Single
URL:/site/bmx_races/569919
END:VEVENT
END:VCALENDAR
