BEGIN:VCALENDAR
VERSION:2.0
PRODID:icalendar-ruby
CALSCALE:GREGORIAN
METHOD:PUBLISH
BEGIN:VEVENT
DTSTAMP:20260426T005931Z
UID:73cd91b1-87b0-48d2-bcd2-d67865f3cf31
DTSTART;VALUE=DATE:20250105
DTEND;VALUE=DATE:20250105
DESCRIPTION:Twin City BMX
LOCATION:401 Lea Joyner Memorial Expy  Monroe LA 71201 USA
SUMMARY:Local Race Single
URL:/site/bmx_races/569262
END:VEVENT
END:VCALENDAR
