BEGIN:VCALENDAR
VERSION:2.0
PRODID:icalendar-ruby
CALSCALE:GREGORIAN
METHOD:PUBLISH
BEGIN:VEVENT
DTSTAMP:20260425T134812Z
UID:cf74a2fc-863c-456d-ba42-16d58cb0b495
DTSTART;VALUE=DATE:20240914
DTEND;VALUE=DATE:20240914
DESCRIPTION:Marquette BMX
LOCATION:910 Hawley Street  Marquette MI 49855 USA
SUMMARY:Local Race Single
URL:/site/bmx_races/569045
END:VEVENT
END:VCALENDAR
